BEGIN:VCALENDAR
VERSION:2.0
PRODID:-//Animal Shelter of Sullivan County - ECPv6.9.0//NONSGML v1.0//EN
CALSCALE:GREGORIAN
METHOD:PUBLISH
X-ORIGINAL-URL:https://animalshelter-sullivancounty.org
X-WR-CALDESC:Events for Animal Shelter of Sullivan County
REFRESH-INTERVAL;VALUE=DURATION:PT1H
X-Robots-Tag:noindex
X-PUBLISHED-TTL:PT1H
BEGIN:VTIMEZONE
TZID:UTC
BEGIN:STANDARD
TZOFFSETFROM:+0000
TZOFFSETTO:+0000
TZNAME:UTC
DTSTART:20230101T000000
END:STANDARD
END:VTIMEZONE
BEGIN:VEVENT
DTSTART;TZID=UTC:20231014T130000
DTEND;TZID=UTC:20231014T160000
DTSTAMP:20260425T020748
CREATED:20230928T180732Z
LAST-MODIFIED:20230928T180858Z
UID:10000005-1697288400-1697299200@animalshelter-sullivancounty.org
SUMMARY:Blessing of the Animals
DESCRIPTION:This is a Blessing of the Animals celebration. At 2:30pm there will be a costume contest where the animals can dress up.
URL:https://animalshelter-sullivancounty.org/event/blessing-of-the-animals/
LOCATION:St. Matthews United Methodist Church\, 2505 Nathan St.\, Kingsport\, TN\, 37664\, United States
ATTACH;FMTTYPE=image/jpeg:https://animalshelter-sullivancounty.org/wp-content/uploads/2023/09/sullivan-county-animal-shelter-volunteers.jpg
END:VEVENT
END:VCALENDAR