BEGIN:VCALENDAR
VERSION:2.0
PRODID:-//Animal Shelter of Sullivan County - ECPv6.9.0//NONSGML v1.0//EN
CALSCALE:GREGORIAN
METHOD:PUBLISH
X-ORIGINAL-URL:https://animalshelter-sullivancounty.org
X-WR-CALDESC:Events for Animal Shelter of Sullivan County
REFRESH-INTERVAL;VALUE=DURATION:PT1H
X-Robots-Tag:noindex
X-PUBLISHED-TTL:PT1H
BEGIN:VTIMEZONE
TZID:UTC
BEGIN:STANDARD
TZOFFSETFROM:+0000
TZOFFSETTO:+0000
TZNAME:UTC
DTSTART:20240101T000000
END:STANDARD
END:VTIMEZONE
BEGIN:VEVENT
DTSTART;TZID=UTC:20241005T080000
DTEND;TZID=UTC:20241005T140000
DTSTAMP:20260420T121450
CREATED:20240917T132431Z
LAST-MODIFIED:20240917T132431Z
UID:10000939-1728115200-1728136800@animalshelter-sullivancounty.org
SUMMARY:Elizabeth Chapel Church 30th Annual Fall Bazaar
DESCRIPTION:Come out and see us at the Elizabeth Chapel Church’s 30th Annual Fall Bazaar. They will have a country breakfast first thing in the morning\, first come first serve. There will be canned good\, fried pies\, apple butter making and a delicious Bar-B-Que lunch.  \nDon’t miss the car show\, shop til you drop\, pet Halloween costume fashion show and a cornhole tournament with CASH prizes. The Animal Shelter of Sullivan County will also be there with a few adoptable animals so come check it out!
URL:https://animalshelter-sullivancounty.org/event/elizabeth-chapel-church-30th-annual-fall-bazaar/
LOCATION:Elizabeth Chapel Church\, 1041 Elizabeth Chapel Road\, Bluff City\, TN\, 37618\, United States
CATEGORIES:Special Events
ATTACH;FMTTYPE=application/pdf:https://animalshelter-sullivancounty.org/wp-content/uploads/2024/09/Elizabeth-Chapel-FF.pdf
END:VEVENT
END:VCALENDAR