BEGIN:VCALENDAR
VERSION:2.0
PRODID:-//Animal Shelter of Sullivan County - ECPv6.9.0//NONSGML v1.0//EN
CALSCALE:GREGORIAN
METHOD:PUBLISH
X-WR-CALNAME:Animal Shelter of Sullivan County
X-ORIGINAL-URL:https://animalshelter-sullivancounty.org
X-WR-CALDESC:Events for Animal Shelter of Sullivan County
REFRESH-INTERVAL;VALUE=DURATION:PT1H
X-Robots-Tag:noindex
X-PUBLISHED-TTL:PT1H
BEGIN:VTIMEZONE
TZID:UTC
BEGIN:STANDARD
TZOFFSETFROM:+0000
TZOFFSETTO:+0000
TZNAME:UTC
DTSTART:20240101T000000
END:STANDARD
END:VTIMEZONE
BEGIN:VEVENT
DTSTART;TZID=UTC:20240810T170000
DTEND;TZID=UTC:20240810T190000
DTSTAMP:20260420T172110
CREATED:20240715T210854Z
LAST-MODIFIED:20240715T210854Z
UID:10000909-1723309200-1723316400@animalshelter-sullivancounty.org
SUMMARY:National Night Out
DESCRIPTION:Join us as we partner with Bristol Tennessee Police Dept for National Night out! This will be a free event with pizza\, popcorn\, drinks and school supplies. Stop by our tent and grab some brochures\, merchandise and meet our adoptable pup!
URL:https://animalshelter-sullivancounty.org/event/national-night-out/
LOCATION:National Night Out\, 840 Alabama St\, Bristol\, TN\, 37620\, United States
CATEGORIES:Special Events
END:VEVENT
END:VCALENDAR