BEGIN:VCALENDAR
VERSION:2.0
PRODID:-//Animal Shelter of Sullivan County - ECPv6.9.0//NONSGML v1.0//EN
CALSCALE:GREGORIAN
METHOD:PUBLISH
X-ORIGINAL-URL:https://animalshelter-sullivancounty.org
X-WR-CALDESC:Events for Animal Shelter of Sullivan County
REFRESH-INTERVAL;VALUE=DURATION:PT1H
X-Robots-Tag:noindex
X-PUBLISHED-TTL:PT1H
BEGIN:VTIMEZONE
TZID:UTC
BEGIN:STANDARD
TZOFFSETFROM:+0000
TZOFFSETTO:+0000
TZNAME:UTC
DTSTART:20240101T000000
END:STANDARD
END:VTIMEZONE
BEGIN:VEVENT
DTSTART;TZID=UTC:20241109T110000
DTEND;TZID=UTC:20241109T150000
DTSTAMP:20260421T050116
CREATED:20240906T134522Z
LAST-MODIFIED:20240906T134522Z
UID:10000936-1731150000-1731164400@animalshelter-sullivancounty.org
SUMMARY:We Pawsitively Love Our Community Fall Festival
DESCRIPTION:Save the Date! We will have food trucks\, vendors\, activities for the kids and of course adoptable animals. Come out and join us to learn more about our shelter and to have some fun! More details to come soon…This event will be held at the track of the old elementary school in Blountville.
URL:https://animalshelter-sullivancounty.org/event/we-pawsitively-love-our-community-fall-festival/
LOCATION:Blountville Elementary\, 155 School Avenue\, Blountville\, TN\, 37617\, United States
CATEGORIES:Special Events
ATTACH;FMTTYPE=image/jpeg:https://animalshelter-sullivancounty.org/wp-content/uploads/2024/09/Nov-2024-Outreach.jpeg
END:VEVENT
BEGIN:VEVENT
DTSTART;TZID=UTC:20250621T120000
DTEND;TZID=UTC:20250621T140000
DTSTAMP:20260421T050116
CREATED:20250527T190500Z
LAST-MODIFIED:20250527T190500Z
UID:10000969-1750507200-1750514400@animalshelter-sullivancounty.org
SUMMARY:Paws and a Latte
DESCRIPTION:Join us on 6/21 from 12pm-2pm for Paws and a Latte!  Bring a donation and get a free iced coffee or tea and meet our adoptable friends! \nWe will be at the Starbucks on Volunteer Parkway in Bristol 1410 Volunteer Parkway\, Bristol TN 37620. \nWe look forward to seeing you there!
URL:https://animalshelter-sullivancounty.org/event/paws-and-a-latte/
CATEGORIES:Adoption Events,Special Events
END:VEVENT
BEGIN:VEVENT
DTSTART;TZID=UTC:20250726T140000
DTEND;TZID=UTC:20250726T180000
DTSTAMP:20260421T050116
CREATED:20250724T183611Z
LAST-MODIFIED:20250724T183611Z
UID:10000972-1753538400-1753552800@animalshelter-sullivancounty.org
SUMMARY:Sip\, Sit\, Stay
DESCRIPTION:Please join us at Squabble State Hard Cider & Spirits on Saturday\, July 26th from 2-6pm for our doggie adoption event!  We will have adoptable dogs\, Open Road Wood Fired Pizza Truck and Ciders and Spirits in the Taproom!  Bring a donation and win a Squabble State Gift Pack along with some swag from The Animal Shelter of Sullivan County. All Pets welcomed and we will also have information about resources and other adoptable pets at our shelter.  We will see you there!
URL:https://animalshelter-sullivancounty.org/event/sip-sit-stay/
LOCATION:Squabble State Hard Cider & Spirits\, 7300 Brownlow Drive\, Bristol\, VA\, 24202\, United States
CATEGORIES:Adoption Events,Special Events
ATTACH;FMTTYPE=image/png:https://animalshelter-sullivancounty.org/wp-content/uploads/2025/07/1-2.png
END:VEVENT
BEGIN:VEVENT
DTSTART;TZID=UTC:20250807T183000
DTEND;TZID=UTC:20250807T210000
DTSTAMP:20260421T050116
CREATED:20250724T182440Z
LAST-MODIFIED:20250724T184200Z
UID:10000971-1754591400-1754600400@animalshelter-sullivancounty.org
SUMMARY:Snip & Snicker Stand-Up Comedy Fundraiser
DESCRIPTION:Come join us at The Blue Ridge Comedy Club on August 7th for our Snip & Snicker Fundraiser!  Tickets are $30 per person or $50 for a couple.  You ticket includes dinner\, dessert and a beverage and beer and wine for additional purchase.  Meal Service will begin at 6:30pm and the comedy show will begin at 7pm. You can purchase your tickets at www.blueridgecomedyclub.com and 100% of the proceeds go to The Animal Shelter of Sullivan County Spay and Neuter program.
URL:https://animalshelter-sullivancounty.org/event/snip-snicker-stand-up-comedy-fundraiser/
LOCATION:Blue Ridge Comedy Club\, 560 English Street\, Bristol\, TN\, 37617\, United States
CATEGORIES:Special Events
ATTACH;FMTTYPE=image/png:https://animalshelter-sullivancounty.org/wp-content/uploads/2025/07/Sullivan-County-Animal-Shelter-1-1-1.png
END:VEVENT
BEGIN:VEVENT
DTSTART;TZID=UTC:20250906T110000
DTEND;TZID=UTC:20250906T150000
DTSTAMP:20260421T050116
CREATED:20250724T185512Z
LAST-MODIFIED:20250724T185512Z
UID:10000973-1757156400-1757170800@animalshelter-sullivancounty.org
SUMMARY:Fall Festival
DESCRIPTION:It is Fall Festival Time!  The Animal Shelter of Sullivan County is hosting its annual Fall Festival on Saturday\, September 6th from 11-3pm at Blountville Middle School in Blountville\, TN. \nThere will be vendors of all kinds\, Food Trucks\, games and more!  We will also have some of our adoptable pets on hand for you to meet and maybe make part of your family.
URL:https://animalshelter-sullivancounty.org/event/fall-festival/
CATEGORIES:Special Events
ATTACH;FMTTYPE=application/pdf:https://animalshelter-sullivancounty.org/wp-content/uploads/2025/07/Animal-Shelter-Fall-Festival.pdf-1-1-1.pdf
END:VEVENT
END:VCALENDAR